BEGIN:VCALENDAR
VERSION:2.0
PRODID:-//Brooklyn Jewish Xperience - ECPv6.15.12.2//NONSGML v1.0//EN
CALSCALE:GREGORIAN
METHOD:PUBLISH
X-WR-CALNAME:Brooklyn Jewish Xperience
X-ORIGINAL-URL:https://bjxcenter.com
X-WR-CALDESC:Events for Brooklyn Jewish Xperience
REFRESH-INTERVAL;VALUE=DURATION:PT1H
X-Robots-Tag:noindex
X-PUBLISHED-TTL:PT1H
BEGIN:VTIMEZONE
TZID:UTC
BEGIN:STANDARD
TZOFFSETFROM:+0000
TZOFFSETTO:+0000
TZNAME:UTC
DTSTART:20250101T000000
END:STANDARD
END:VTIMEZONE
BEGIN:VEVENT
DTSTART;TZID=UTC:20260115T203000
DTEND;TZID=UTC:20260115T220000
DTSTAMP:20260424T153206
CREATED:20220225T003400Z
LAST-MODIFIED:20260118T155849Z
UID:5002-1768509000-1768514400@bjxcenter.com
SUMMARY:College Students and YJPs: Sushi and Social Every Thursday!
DESCRIPTION:Brooklyn Sushi Event for Jewish College Students and YJPs!\nTo RSVP\, please take a minute and register here !\n 
URL:https://bjxcenter.com/event/dine-n-learn/2026-01-15/
ATTACH;FMTTYPE=image/png:https://bjxcenter.com/wp-content/uploads/2022/02/Green-Yellow-Photo-College-Poster-9-1-1.png
END:VEVENT
END:VCALENDAR