BEGIN:VCALENDAR
VERSION:2.0
PRODID:-//Brooklyn Jewish Xperience - ECPv6.15.12.2//NONSGML v1.0//EN
CALSCALE:GREGORIAN
METHOD:PUBLISH
X-ORIGINAL-URL:https://bjxcenter.com
X-WR-CALDESC:Events for Brooklyn Jewish Xperience
REFRESH-INTERVAL;VALUE=DURATION:PT1H
X-Robots-Tag:noindex
X-PUBLISHED-TTL:PT1H
BEGIN:VTIMEZONE
TZID:UTC
BEGIN:STANDARD
TZOFFSETFROM:+0000
TZOFFSETTO:+0000
TZNAME:UTC
DTSTART:20250101T000000
END:STANDARD
END:VTIMEZONE
BEGIN:VTIMEZONE
TZID:America/New_York
BEGIN:DAYLIGHT
TZOFFSETFROM:-0500
TZOFFSETTO:-0400
TZNAME:EDT
DTSTART:20250309T070000
END:DAYLIGHT
BEGIN:STANDARD
TZOFFSETFROM:-0400
TZOFFSETTO:-0500
TZNAME:EST
DTSTART:20251102T060000
END:STANDARD
BEGIN:DAYLIGHT
TZOFFSETFROM:-0500
TZOFFSETTO:-0400
TZNAME:EDT
DTSTART:20260308T070000
END:DAYLIGHT
BEGIN:STANDARD
TZOFFSETFROM:-0400
TZOFFSETTO:-0500
TZNAME:EST
DTSTART:20261101T060000
END:STANDARD
BEGIN:DAYLIGHT
TZOFFSETFROM:-0500
TZOFFSETTO:-0400
TZNAME:EDT
DTSTART:20270314T070000
END:DAYLIGHT
BEGIN:STANDARD
TZOFFSETFROM:-0400
TZOFFSETTO:-0500
TZNAME:EST
DTSTART:20271107T060000
END:STANDARD
END:VTIMEZONE
BEGIN:VEVENT
DTSTART;TZID=UTC:20260116T164500
DTEND;TZID=UTC:20280915T175000
DTSTAMP:20260424T123025
CREATED:20220429T232707Z
LAST-MODIFIED:20260115T202052Z
UID:5064-1768581900-1852653000@bjxcenter.com
SUMMARY:Join Jewish Students and YJPs for a beautiful Carlebach Shabbos- Every Shabbos!
DESCRIPTION:Carlebach Shabbos Experience for YJPs and Jewish students at BJX Every Shabbos!\n(Always 10 minutes after Candle Lighting)\n 
URL:https://bjxcenter.com/event/carlebach-shbbaos/2026-01-16/
LOCATION:BJX Avenue K\, 2915 Ave. K\, Brooklyn\, 11210\, United States
ATTACH;FMTTYPE=image/jpeg:https://bjxcenter.com/wp-content/uploads/2022/04/IMG-20250904-WA0133-1.jpg
GEO:40.624559;-73.946946
X-APPLE-STRUCTURED-LOCATION;VALUE=URI;X-ADDRESS=BJX Avenue K 2915 Ave. K Brooklyn 11210 United States;X-APPLE-RADIUS=500;X-TITLE=2915 Ave. K:geo:-73.946946,40.624559
END:VEVENT
BEGIN:VEVENT
DTSTART;TZID=UTC:20260424T164500
DTEND;TZID=UTC:20260424T174500
DTSTAMP:20260424T123025
CREATED:20181221T230826Z
LAST-MODIFIED:20181221T230826Z
UID:24460-1777049100-1777052700@bjxcenter.com
SUMMARY:Carlebach Davening with Renowned Chazan!
DESCRIPTION:Carlebach Friday Night Services with Renowned Singer! \n \n 
URL:https://bjxcenter.com/event/carlebach-davening-with-renowned-singer-naftali-blumenthal/2026-04-24/
LOCATION:BJX Avenue K\, 2915 Ave. K\, Brooklyn\, 11210\, United States
ATTACH;FMTTYPE=image/jpeg:https://bjxcenter.com/wp-content/uploads/2018/12/IMG-20250904-WA0133-1.jpg
GEO:40.624559;-73.946946
X-APPLE-STRUCTURED-LOCATION;VALUE=URI;X-ADDRESS=BJX Avenue K 2915 Ave. K Brooklyn 11210 United States;X-APPLE-RADIUS=500;X-TITLE=2915 Ave. K:geo:-73.946946,40.624559
END:VEVENT
BEGIN:VEVENT
DTSTART;TZID=America/New_York:20260427T200000
DTEND;TZID=America/New_York:20260427T220000
DTSTAMP:20260424T123025
CREATED:20241030T185345Z
LAST-MODIFIED:20241030T185345Z
UID:24495-1777320000-1777327200@bjxcenter.com
SUMMARY:Jewish College Students: MEET TOP CEOS! EARN A STIPEND! HOT DINNER SERVED!
DESCRIPTION:Jewish College Students:\nCollege Students are welcome to apply for our premier course\, Leadership on FIRE. If you’re an ambitious college student looking to succeed both in life and in your career\, then this course is a must! College students will learn how to succeed beyond their wildest imagination. They will meet with top CEOs who will provide rock-solid tips on how to succeed and they will reveal how they began their wildly successful businesses\nMEET TOP CEOS! EARN A STIPEND! HOT DINNER SERVED!\n \n  \nApply here!
URL:https://bjxcenter.com/event/jewish-college-students-meet-top-ceos-earn-a-stipend-hot-dinner-served/2026-04-27/
LOCATION:BJX Avenue K\, 2915 Ave. K\, Brooklyn\, 11210\, United States
ATTACH;FMTTYPE=image/png:https://bjxcenter.com/wp-content/uploads/2024/10/Green-Yellow-Photo-College-Poster-Instagram-Post-45.png
GEO:40.624559;-73.946946
X-APPLE-STRUCTURED-LOCATION;VALUE=URI;X-ADDRESS=BJX Avenue K 2915 Ave. K Brooklyn 11210 United States;X-APPLE-RADIUS=500;X-TITLE=2915 Ave. K:geo:-73.946946,40.624559
END:VEVENT
END:VCALENDAR