BEGIN:VCALENDAR
VERSION:2.0
PRODID:-//Brooklyn Jewish Xperience - ECPv6.15.12.2//NONSGML v1.0//EN
CALSCALE:GREGORIAN
METHOD:PUBLISH
X-WR-CALNAME:Brooklyn Jewish Xperience
X-ORIGINAL-URL:https://bjxcenter.com
X-WR-CALDESC:Events for Brooklyn Jewish Xperience
REFRESH-INTERVAL;VALUE=DURATION:PT1H
X-Robots-Tag:noindex
X-PUBLISHED-TTL:PT1H
BEGIN:VTIMEZONE
TZID:America/New_York
BEGIN:DAYLIGHT
TZOFFSETFROM:-0500
TZOFFSETTO:-0400
TZNAME:EDT
DTSTART:20240310T070000
END:DAYLIGHT
BEGIN:STANDARD
TZOFFSETFROM:-0400
TZOFFSETTO:-0500
TZNAME:EST
DTSTART:20241103T060000
END:STANDARD
BEGIN:DAYLIGHT
TZOFFSETFROM:-0500
TZOFFSETTO:-0400
TZNAME:EDT
DTSTART:20250309T070000
END:DAYLIGHT
BEGIN:STANDARD
TZOFFSETFROM:-0400
TZOFFSETTO:-0500
TZNAME:EST
DTSTART:20251102T060000
END:STANDARD
BEGIN:DAYLIGHT
TZOFFSETFROM:-0500
TZOFFSETTO:-0400
TZNAME:EDT
DTSTART:20260308T070000
END:DAYLIGHT
BEGIN:STANDARD
TZOFFSETFROM:-0400
TZOFFSETTO:-0500
TZNAME:EST
DTSTART:20261101T060000
END:STANDARD
END:VTIMEZONE
BEGIN:VTIMEZONE
TZID:UTC
BEGIN:STANDARD
TZOFFSETFROM:+0000
TZOFFSETTO:+0000
TZNAME:UTC
DTSTART:20240101T000000
END:STANDARD
END:VTIMEZONE
BEGIN:VEVENT
DTSTART;TZID=America/New_York:20251212T080000
DTEND;TZID=America/New_York:20251212T170000
DTSTAMP:20260424T153207
CREATED:20251209T220903Z
LAST-MODIFIED:20251209T220915Z
UID:24379-1765526400-1765558800@bjxcenter.com
SUMMARY:Flatbush Shabbos of Chizuk with Rav Gav
DESCRIPTION:Chizuk
URL:https://bjxcenter.com/event/flatbush-shabbos-of-chizuk-with-rav-gav/
ATTACH;FMTTYPE=image/jpeg:https://bjxcenter.com/wp-content/uploads/2025/12/IMG-20251209-WA0099.jpg
END:VEVENT
BEGIN:VEVENT
DTSTART;TZID=America/New_York:20251213T150000
DTEND;TZID=America/New_York:20251213T160000
DTSTAMP:20260424T153207
CREATED:20240606T041703Z
LAST-MODIFIED:20260118T155353Z
UID:24078-1765638000-1765641600@bjxcenter.com
SUMMARY:Brooklyn's Talmud Class for College Students- Shabbos Afternoon
DESCRIPTION:Men this is your opportunity to swim into the Sea of the Talmud! Join Jewish College students from local collages and young professionals for a fascinating dive into the sea of the Talmud! \nTalmud class for Jewish college students and young Jewish professionals in Brooklyn
URL:https://bjxcenter.com/event/brooklyns-talmud-class-for-beginners-shabbos-afternoon/2025-12-13/
LOCATION:BJX Avenue K\, 2915 Ave. K\, Brooklyn\, 11210\, United States
ATTACH;FMTTYPE=image/jpeg:https://bjxcenter.com/wp-content/uploads/2024/06/IMG-20240531-WA0138.jpg
GEO:40.624559;-73.946946
X-APPLE-STRUCTURED-LOCATION;VALUE=URI;X-ADDRESS=BJX Avenue K 2915 Ave. K Brooklyn 11210 United States;X-APPLE-RADIUS=500;X-TITLE=2915 Ave. K:geo:-73.946946,40.624559
END:VEVENT
BEGIN:VEVENT
DTSTART;TZID=UTC:20251214T090000
DTEND;TZID=UTC:20251214T100000
DTSTAMP:20260424T153207
CREATED:20200110T004406Z
LAST-MODIFIED:20260118T155107Z
UID:4686-1765702800-1765706400@bjxcenter.com
SUMMARY:Sunday Class and Breakfast for Jewish College Students and Young Professionals
DESCRIPTION:Sunday Class and Breakfast for Jewish College Students and young professionals
URL:https://bjxcenter.com/event/breakfast-and-class-on-sundays/2025-12-14/
LOCATION:BJX Avenue K\, 2915 Ave. K\, Brooklyn\, 11210\, United States
ATTACH;FMTTYPE=image/jpeg:https://bjxcenter.com/wp-content/uploads/2020/01/IMG-20240606-WA0002.jpg
GEO:40.624559;-73.946946
X-APPLE-STRUCTURED-LOCATION;VALUE=URI;X-ADDRESS=BJX Avenue K 2915 Ave. K Brooklyn 11210 United States;X-APPLE-RADIUS=500;X-TITLE=2915 Ave. K:geo:-73.946946,40.624559
END:VEVENT
BEGIN:VEVENT
DTSTART;TZID=UTC:20251214T200000
DTEND;TZID=UTC:20251214T223000
DTSTAMP:20260424T153207
CREATED:20151204T032506Z
LAST-MODIFIED:20260118T155422Z
UID:2946-1765742400-1765751400@bjxcenter.com
SUMMARY:Insane Hanukah Party 2025 in Brooklyn\, NY!
DESCRIPTION:Chanukah Party 2025!\nWe’re going totally insane! \n\n\nFor collegiate and young professionals only
URL:https://bjxcenter.com/event/awesome-chanukah-party/
ATTACH;FMTTYPE=image/jpeg:https://bjxcenter.com/wp-content/uploads/2015/12/IMG-20251203-WA0002.jpg
END:VEVENT
BEGIN:VEVENT
DTSTART;TZID=America/New_York:20251214T203000
DTEND;TZID=America/New_York:20251214T223000
DTSTAMP:20260424T153207
CREATED:20241215T184830Z
LAST-MODIFIED:20251210T204420Z
UID:24246-1765744200-1765751400@bjxcenter.com
SUMMARY:College Students and Young Professionals Insane Brooklyn\, NY Hannukah Party!
DESCRIPTION:College Students and Young Professionals Insane Brooklyn\, NY Hannukah Party!\n \nJoin college students/YJPs (ages 18-35) for a fantastic BJX Hannukah Party at the Grand Ballroom! Get ready to celebrate the Festival of Lights with friends . This in-person event promises a festive atmosphere filled with joy\, laughter\, and delicious food. We’ll have traditional Hanukkah treats like latkes and sufganiyot\, an all you can east hot buffet\, a DJ\, open bar\, as well as fun activities and prizes. Don’t miss out on the chance to light the menorah together and sing traditional songs. Whether you’re a Hanukkah pro or new to the celebration\, you’re welcome to join in the BJX festivities with other college students and young Jewish professionals. Mark your calendars and get ready for a memorable Chanukkah Party with Brooklyn Jewish Xperience! \nMenu: \n\nPremium Open Bar\nAll you Can Eat Buffet\nGourmet Hot Dishes – Chinese & American\nSushi\nArtisan Dounuts\nTraditional Hanukkah food\n\nGet your ticket here! email info@bjxcenter.com
URL:https://bjxcenter.com/event/college-students-and-young-professionals-insane-brooklyn-ny-hannukah-party/
ATTACH;FMTTYPE=image/jpeg:https://bjxcenter.com/wp-content/uploads/2024/12/IMG-20251203-WA0002.jpg
END:VEVENT
END:VCALENDAR